BEGIN:VCALENDAR
VERSION:2.0
PRODID: -//CMS 5.0 //NONSGML //DE
BEGIN:VEVENT
SUMMARY:Bezirksbläserensemble - Wir proben! 
DESCRIPTION:Herzliches Willkommen zur Probe des NAK Bezirksbläserensemb
 les Erzgebirge!\n\nDu möchtest bei uns mitspielen? Dann komm doch mal 
 zum Schnuppern! Wir freuen uns auf dich!\n\n\n\nhttps://aue.nak-nordost
 .de/db/597734
UID:597734@aue.nak-nordost.de
LOCATION:Cornelia Friedrich
CATEGORIES:Proben,Musikalische Aktivitäten,Kirchenbezirk Zwickau (Alle Gemeinden)
X-ORGANIZER:
STATUS:CONFIRMED
CLASS:PUBLIC
DTSTART:20260423T160000Z
DTEND:20260423T160000Z
DTSTAMP:20260420T192414Z
CREATED:20260401T195310Z
LAST-MODIFIED:20260401T195310Z
BEGIN:VALARM
UID:841A41E8-3CEE-11F1-B4B5-36175629324C
TRIGGER:-PT60M
ACTION:DISPLAY
DESCRIPTION:SUMMARY:Bezirksbläserensemble - Wir proben! 
END:VALARM
END:VEVENT
END:VCALENDAR
