BEGIN:VCALENDAR
VERSION:2.0
PRODID: -//CMS 5.0 //NONSGML //DE
BEGIN:VEVENT
SUMMARY:Probe Gemeindechor
DESCRIPTION:\n\n\n\nhttps://aue.nak-nordost.de/db/596663
UID:596663@aue.nak-nordost.de
LOCATION:
CATEGORIES:Gemeinde Aue
X-ORGANIZER:
STATUS:CONFIRMED
CLASS:PUBLIC
DTSTART:20260420T173000Z
DTEND:20260420T183000Z
DTSTAMP:20260420T192414Z
CREATED:20260326T203133Z
LAST-MODIFIED:20260326T203133Z
BEGIN:VALARM
UID:8413F7AC-3CEE-11F1-8942-E03E5629324C
TRIGGER:-PT60M
ACTION:DISPLAY
DESCRIPTION:SUMMARY:Probe Gemeindechor
END:VALARM
END:VEVENT
END:VCALENDAR
