BEGIN:VCALENDAR
VERSION:2.0
PRODID: -//CMS 5.0 //NONSGML //DE
BEGIN:VEVENT
SUMMARY:Gottesdienst
DESCRIPTION:\n\n\n\nhttps://aue.nak-nordost.de/db/596662
UID:596662@aue.nak-nordost.de
LOCATION:
CATEGORIES:Gemeinde Aue
X-ORGANIZER:
STATUS:CONFIRMED
CLASS:PUBLIC
DTSTART:20260422T173000Z
DTEND:20260422T183000Z
DTSTAMP:20260420T192431Z
CREATED:20260326T203133Z
LAST-MODIFIED:20260326T203133Z
BEGIN:VALARM
UID:8EA676FE-3CEE-11F1-AE2E-B4A75529324C
TRIGGER:-PT60M
ACTION:DISPLAY
DESCRIPTION:SUMMARY:Gottesdienst
END:VALARM
END:VEVENT
END:VCALENDAR
